BEGIN:VCALENDAR
VERSION:2.0
PRODID:-//Food Shed Co-op - ECPv6.15.20//NONSGML v1.0//EN
CALSCALE:GREGORIAN
METHOD:PUBLISH
X-WR-CALNAME:Food Shed Co-op
X-ORIGINAL-URL:https://foodshed.coop
X-WR-CALDESC:Events for Food Shed Co-op
REFRESH-INTERVAL;VALUE=DURATION:PT1H
X-Robots-Tag:noindex
X-PUBLISHED-TTL:PT1H
BEGIN:VTIMEZONE
TZID:America/Chicago
BEGIN:DAYLIGHT
TZOFFSETFROM:-0600
TZOFFSETTO:-0500
TZNAME:CDT
DTSTART:20250309T080000
END:DAYLIGHT
BEGIN:STANDARD
TZOFFSETFROM:-0500
TZOFFSETTO:-0600
TZNAME:CST
DTSTART:20251102T070000
END:STANDARD
BEGIN:DAYLIGHT
TZOFFSETFROM:-0600
TZOFFSETTO:-0500
TZNAME:CDT
DTSTART:20260308T080000
END:DAYLIGHT
BEGIN:STANDARD
TZOFFSETFROM:-0500
TZOFFSETTO:-0600
TZNAME:CST
DTSTART:20261101T070000
END:STANDARD
BEGIN:DAYLIGHT
TZOFFSETFROM:-0600
TZOFFSETTO:-0500
TZNAME:CDT
DTSTART:20270314T080000
END:DAYLIGHT
BEGIN:STANDARD
TZOFFSETFROM:-0500
TZOFFSETTO:-0600
TZNAME:CST
DTSTART:20271107T070000
END:STANDARD
END:VTIMEZONE
BEGIN:VEVENT
DTSTART;TZID=America/Chicago:20260422T160000
DTEND;TZID=America/Chicago:20260422T190000
DTSTAMP:20260422T053132
CREATED:20260422T052030Z
LAST-MODIFIED:20260422T052030Z
UID:11139-1776873600-1776884400@foodshed.coop
SUMMARY:The Garlic eScape Farm
DESCRIPTION:Visit the co-op on Earth Day and meet local vendor Dr. Silvia Abel-Caines of The Garlic eScape Farm. Savor a sample or two\, learn about the health-boosting magic of garlic!
URL:https://foodshed.coop/event/the-garlic-escape-farm/
LOCATION:Food Shed Co-op\, 2390 Lake Shore Drive\, Woodstock\, 60098\, United States
ATTACH;FMTTYPE=image/png:https://foodshed.coop/wp-content/uploads/2026/04/TheGarliceScapeFarm.png
END:VEVENT
BEGIN:VEVENT
DTSTART;TZID=America/Chicago:20260422T173000
DTEND;TZID=America/Chicago:20260422T190000
DTSTAMP:20260422T053132
CREATED:20260325T033930Z
LAST-MODIFIED:20260422T010315Z
UID:10624-1776879000-1776884400@foodshed.coop
SUMMARY:Mending Class
DESCRIPTION:Give your wardrobe a second life starting this Earth Month 🌎 \nJoin Environmental Defenders of McHenry County and Ashley Lange for a hands-on clothes-mending workshop in our community room. Bring those items you’ve been meaning to fix and learn simple\, practical techniques to repair them yourself. \nGuided by Ashley and a team of volunteers\, you’ll learn basic stitches and get one-on-one support as you work on your own pieces. This is a learning experience—not a repair service—so you’ll leave with skills you can use again and again. \nCelebrate Earth Month by reducing waste\, reusing what you have\, and discovering the value of mending.
URL:https://foodshed.coop/event/mending-class/
LOCATION:Food Shed Co-op\, 2390 Lake Shore Drive\, Woodstock\, 60098\, United States
ATTACH;FMTTYPE=image/jpeg:https://foodshed.coop/wp-content/uploads/2026/03/Mending-Class-Wordpress-Event-Box.jpg
ORGANIZER;CN="Environmental Defenders of McHenry County":MAILTO:envirodefmc@gmail.com
END:VEVENT
END:VCALENDAR